BEGIN:VCALENDAR
VERSION:2.0
PRODID:-//Verband der Feuerwehren in der Städteregion Aachen e.V. - ECPv6.15.20//NONSGML v1.0//EN
CALSCALE:GREGORIAN
METHOD:PUBLISH
X-WR-CALNAME:Verband der Feuerwehren in der Städteregion Aachen e.V.
X-ORIGINAL-URL:https://vdf-srac.de
X-WR-CALDESC:Veranstaltungen für Verband der Feuerwehren in der Städteregion Aachen e.V.
REFRESH-INTERVAL;VALUE=DURATION:PT1H
X-Robots-Tag:noindex
X-PUBLISHED-TTL:PT1H
BEGIN:VTIMEZONE
TZID:Europe/Berlin
BEGIN:DAYLIGHT
TZOFFSETFROM:+0100
TZOFFSETTO:+0200
TZNAME:CEST
DTSTART:20250330T010000
END:DAYLIGHT
BEGIN:STANDARD
TZOFFSETFROM:+0200
TZOFFSETTO:+0100
TZNAME:CET
DTSTART:20251026T010000
END:STANDARD
BEGIN:DAYLIGHT
TZOFFSETFROM:+0100
TZOFFSETTO:+0200
TZNAME:CEST
DTSTART:20260329T010000
END:DAYLIGHT
BEGIN:STANDARD
TZOFFSETFROM:+0200
TZOFFSETTO:+0100
TZNAME:CET
DTSTART:20261025T010000
END:STANDARD
BEGIN:DAYLIGHT
TZOFFSETFROM:+0100
TZOFFSETTO:+0200
TZNAME:CEST
DTSTART:20270328T010000
END:DAYLIGHT
BEGIN:STANDARD
TZOFFSETFROM:+0200
TZOFFSETTO:+0100
TZNAME:CET
DTSTART:20271031T010000
END:STANDARD
END:VTIMEZONE
BEGIN:VEVENT
DTSTART;TZID=Europe/Berlin:20260503T100000
DTEND;TZID=Europe/Berlin:20260503T180000
DTSTAMP:20260420T173530
CREATED:20260128T153734Z
LAST-MODIFIED:20260328T203939Z
UID:3411-1777802400-1777831200@vdf-srac.de
SUMMARY:Gemeinsamer Florianstag VdF SR AC am 03.05.2026 findet leider NICHT statt.
DESCRIPTION:Der gemeinsame Florianstag am 03. Mai 2026 findet leider NICHT statt. \nVerschiedene\, nicht beeinflussbare Unwägbarkeiten/Unsicherheiten führen leider zu dieser Entscheidung. \nEin ausdrücklicher Dank gilt Allen\, die mit sehr hohem Engagement\, mit hohem persönlichen Einsatz\, mit sehr großem persönlichen\, zeitlichen und organisatorischen Aufwand\, die Veranstaltung vorgeplant und organisiert haben. \nInsbesondere gilt hierbei der Dank an: \n\ndie Musikeinheiten der Feuerwehren im Verband > diesen ist es in kurzer Zeit gelungen\, ein Konzert zu konzipieren sowie gemeinsame Stücke vorzubereiten\ndas Orga-Team des Vorstandes > diesen ist es bereits in sehr kurzer Zeit gelungen\, sowohl das Catering\, Getränke und weiteres Rahmenprogramm zu organisieren\ndie Geschäftsführung und Mitarbeitenden des Energeticon\, die ihre uneingeschränkte Unterstützung zugesichert hatten und weiterhin haben\, einen solchen gemeinsamen Veranstaltungstag durchzuführen.\n\nEin alternativer Termin soll nun gefunden werden. Hierzu werden wir uns im Vorstand und in der Sitzung des Verbandsausschusses beraten. \nHerzliche Grüße\nT. Sprank (Vorsitzender) \n 
URL:https://vdf-srac.de/event/gemeinsamer-florianstag-vdf-sr-ac-am-03-05-2026/
LOCATION:Alsdorf Verbandssitz VdF SR AC\, Herzogenrather Str. 100\, Alsdorf\, NRW\, 52477\, Germany
END:VEVENT
BEGIN:VEVENT
DTSTART;TZID=Europe/Berlin:20260521T190000
DTEND;TZID=Europe/Berlin:20260521T210000
DTSTAMP:20260420T173530
CREATED:20260115T202853Z
LAST-MODIFIED:20260116T000058Z
UID:3056-1779390000-1779397200@vdf-srac.de
SUMMARY:Vorbesprechung Leistungsnachweis 2026 in Monschau-Kalterherberg
DESCRIPTION:Vorbesprechung für den Leistungsnachweis 2026 in Monschau-Kalterherberg am 21. Mai 2026 um 19 Uhr
URL:https://vdf-srac.de/event/leistungsnachweis-2026-vorbesprechung-in-monschau-kalterherberg/
LOCATION:Monschau-Kalterherberg
END:VEVENT
BEGIN:VEVENT
DTSTART;TZID=Europe/Berlin:20260530T090000
DTEND;TZID=Europe/Berlin:20260530T170000
DTSTAMP:20260420T173530
CREATED:20260116T214528Z
LAST-MODIFIED:20260128T155004Z
UID:3243-1780131600-1780160400@vdf-srac.de
SUMMARY:Abnahme Flamme II & III JF am 30.05.2026
DESCRIPTION:
URL:https://vdf-srac.de/event/abnahme-flamme-ii-iii-jf-am-30-05-2026/
LOCATION:Monschau-Konzen. Dorfplatz. KOnrad-Adenauer-Straße 4\, Monschau-Konzen\, Nordrhein-Westfalen\, 52156\, Germany
END:VEVENT
BEGIN:VEVENT
DTSTART;TZID=Europe/Berlin:20260530T140000
DTEND;TZID=Europe/Berlin:20260530T230000
DTSTAMP:20260420T173530
CREATED:20260414T135907Z
LAST-MODIFIED:20260414T143641Z
UID:3850-1780149600-1780182000@vdf-srac.de
SUMMARY:Jugendfeuerwehr Konzen Jubiläumsfeier 50 Jahre am 30.05.2026
DESCRIPTION:
URL:https://vdf-srac.de/event/jugendfeuerwehr-konzen-jubilaeumsfeier-50-jahre-am-30-05-2026/
LOCATION:Monschau-Konzen. Dorfplatz. KOnrad-Adenauer-Straße 4\, Monschau-Konzen\, Nordrhein-Westfalen\, 52156\, Germany
END:VEVENT
END:VCALENDAR