BEGIN:VCALENDAR
VERSION:2.0
PRODID:-//Verband der Feuerwehren in der Städteregion Aachen e.V. - ECPv6.15.20//NONSGML v1.0//EN
CALSCALE:GREGORIAN
METHOD:PUBLISH
X-ORIGINAL-URL:https://vdf-srac.de
X-WR-CALDESC:Veranstaltungen für Verband der Feuerwehren in der Städteregion Aachen e.V.
REFRESH-INTERVAL;VALUE=DURATION:PT1H
X-Robots-Tag:noindex
X-PUBLISHED-TTL:PT1H
BEGIN:VTIMEZONE
TZID:Europe/Berlin
BEGIN:DAYLIGHT
TZOFFSETFROM:+0100
TZOFFSETTO:+0200
TZNAME:CEST
DTSTART:20250330T010000
END:DAYLIGHT
BEGIN:STANDARD
TZOFFSETFROM:+0200
TZOFFSETTO:+0100
TZNAME:CET
DTSTART:20251026T010000
END:STANDARD
BEGIN:DAYLIGHT
TZOFFSETFROM:+0100
TZOFFSETTO:+0200
TZNAME:CEST
DTSTART:20260329T010000
END:DAYLIGHT
BEGIN:STANDARD
TZOFFSETFROM:+0200
TZOFFSETTO:+0100
TZNAME:CET
DTSTART:20261025T010000
END:STANDARD
BEGIN:DAYLIGHT
TZOFFSETFROM:+0100
TZOFFSETTO:+0200
TZNAME:CEST
DTSTART:20270328T010000
END:DAYLIGHT
BEGIN:STANDARD
TZOFFSETFROM:+0200
TZOFFSETTO:+0100
TZNAME:CET
DTSTART:20271031T010000
END:STANDARD
END:VTIMEZONE
BEGIN:VEVENT
DTSTART;TZID=Europe/Berlin:20260909T190000
DTEND;TZID=Europe/Berlin:20260909T220000
DTSTAMP:20260420T235326
CREATED:20260119T105811Z
LAST-MODIFIED:20260128T154924Z
UID:3302-1788980400-1788991200@vdf-srac.de
SUMMARY:AG CBRN am 09.09.2026
DESCRIPTION:
URL:https://vdf-srac.de/event/ag-cbrn-am-09-09-2026/
LOCATION:NRW
END:VEVENT
BEGIN:VEVENT
DTSTART;TZID=Europe/Berlin:20260911T170000
DTEND;TZID=Europe/Berlin:20260912T170000
DTSTAMP:20260420T235326
CREATED:20260118T083757Z
LAST-MODIFIED:20260128T154914Z
UID:3280-1789146000-1789232400@vdf-srac.de
SUMMARY:Klausurtagung LdF & Vorstand vom 11.09. bis 12.09.2026
DESCRIPTION:
URL:https://vdf-srac.de/event/klausurtagung-ldf-vorstand-vom-11-09-bis-12-09-2026/
LOCATION:BGZ Simmerath\, Kranzbruchstraße 10\, Simmerath\, Nordrhein-Westfalen\, 52152\, Germany
END:VEVENT
BEGIN:VEVENT
DTSTART;VALUE=DATE:20260912
DTEND;VALUE=DATE:20260913
DTSTAMP:20260420T235326
CREATED:20260116T221529Z
LAST-MODIFIED:20260128T154905Z
UID:3255-1789171200-1789257599@vdf-srac.de
SUMMARY:Katastrophenschutztag NRW am 12.09.2026
DESCRIPTION:
URL:https://vdf-srac.de/event/katastrophenschutztag-nrw-am-12-09-2026/
LOCATION:Eschweiler
END:VEVENT
BEGIN:VEVENT
DTSTART;VALUE=DATE:20260912
DTEND;VALUE=DATE:20260914
DTSTAMP:20260420T235326
CREATED:20260115T220108Z
LAST-MODIFIED:20260116T000026Z
UID:3086-1789171200-1789343999@vdf-srac.de
SUMMARY:Jugendforum vom 12.09. bis 13.09.2026
DESCRIPTION:Uhrzeiten für Beginn und Ende des Forums werden noch bekannt gegeben. Wir bitten um Verständnis. Danke.
URL:https://vdf-srac.de/event/jugendforum-vom-12-09-bis-13-09-2026/
LOCATION:BGZ Simmerath\, Kranzbruchstraße 10\, Simmerath\, Nordrhein-Westfalen\, 52152\, Germany
END:VEVENT
BEGIN:VEVENT
DTSTART;TZID=Europe/Berlin:20260921T190000
DTEND;TZID=Europe/Berlin:20260921T220000
DTSTAMP:20260420T235326
CREATED:20260115T211722Z
LAST-MODIFIED:20260116T000015Z
UID:3068-1790017200-1790028000@vdf-srac.de
SUMMARY:Vorstandssitzung VdF SRAC e.V. am 21.09.2026 in Alsdorf
DESCRIPTION:
URL:https://vdf-srac.de/event/vorstandssitzung-vdf-srac-e-v-am-21-09-2026-in-alsdorf/
LOCATION:Alsdorf Verbandssitz VdF SR AC\, Herzogenrather Str. 100\, Alsdorf\, NRW\, 52477\, Germany
ORGANIZER;CN="VdF SR AC Vorstand":MAILTO:geschaeftsfuehrung@vdf-srac.de
END:VEVENT
BEGIN:VEVENT
DTSTART;TZID=Europe/Berlin:20260923T190000
DTEND;TZID=Europe/Berlin:20260923T220000
DTSTAMP:20260420T235326
CREATED:20260119T105012Z
LAST-MODIFIED:20260128T154856Z
UID:3296-1790190000-1790200800@vdf-srac.de
SUMMARY:AG Waldbrand am 23.09.2026
DESCRIPTION:
URL:https://vdf-srac.de/event/ag-waldbrand-am-23-09-2026/
LOCATION:NRW
END:VEVENT
BEGIN:VEVENT
DTSTART;TZID=Europe/Berlin:20260930T190000
DTEND;TZID=Europe/Berlin:20260930T220000
DTSTAMP:20260420T235326
CREATED:20260119T104400Z
LAST-MODIFIED:20260128T154848Z
UID:3288-1790794800-1790805600@vdf-srac.de
SUMMARY:AG Atemschutz am 30.09.2026
DESCRIPTION:
URL:https://vdf-srac.de/event/ag-atemschutz-am-30-09-2026/
LOCATION:NRW
END:VEVENT
BEGIN:VEVENT
DTSTART;TZID=Europe/Berlin:20260930T190000
DTEND;TZID=Europe/Berlin:20260930T220000
DTSTAMP:20260420T235326
CREATED:20260119T104736Z
LAST-MODIFIED:20260128T154840Z
UID:3292-1790794800-1790805600@vdf-srac.de
SUMMARY:AG Ausbildung am 30.09.2026
DESCRIPTION:
URL:https://vdf-srac.de/event/ag-ausbildung-am-30-09-2026/
LOCATION:NRW
END:VEVENT
END:VCALENDAR